BEGIN:VCALENDAR
VERSION:2.0
PRODID:-//https://wildthermasclub.com.br///NONSGML kigkonsult.se iCalcreator 2.10.15//
METHOD:PUBLISH
BEGIN:VEVENT
UID:20260423T160848UTC-2606vAKAsh@https://wildthermasclub.com.br/
DTSTAMP:20260423T160848Z
DESCRIPTION: https://wildthermasclub.com.br/en/events/event/2905-pegada-de-
 urso-sabados
DTSTART:20240413T170000Z
DTEND:20240414T020000Z
LOCATION:Rua Dr Veiga Filho 802 Higienópolis São Paulo (Rua Dr Veiga Filho 
 802 Higienópolis São Paulo)
SUMMARY:PEGADA DE URSO -  sábados
URL:https://wildthermasclub.com.br/en/events/event/2905-pegada-de-urso-saba
 dos
END:VEVENT
END:VCALENDAR
