BEGIN:VCALENDAR
VERSION:2.0
PRODID:-//https://wildthermasclub.com.br///NONSGML kigkonsult.se iCalcreator 2.10.15//
METHOD:PUBLISH
BEGIN:VEVENT
UID:20260420T191506UTC-5314mGZiWr@https://wildthermasclub.com.br/
DTSTAMP:20260420T191506Z
DESCRIPTION: https://wildthermasclub.com.br/en/events/event/3246-barman-int
 erativo-as-quintas
DTSTART:20241205T170000Z
DTEND:20241206T020000Z
LOCATION:Rua Dr Veiga Filho 802 Higienópolis São Paulo (Rua Dr Veiga Filho 
 802 Higienópolis São Paulo)
SUMMARY: Barman Interativo às Quintas
URL:https://wildthermasclub.com.br/en/events/event/3246-barman-interativo-a
 s-quintas
END:VEVENT
END:VCALENDAR
