BEGIN:VCALENDAR
VERSION:2.0
PRODID:-//https://wildthermasclub.com.br///NONSGML kigkonsult.se iCalcreator 2.10.15//
METHOD:PUBLISH
BEGIN:VEVENT
UID:20260425T032251UTC-0657uH47cG@https://wildthermasclub.com.br/
DTSTAMP:20260425T032251Z
DESCRIPTION: https://wildthermasclub.com.br/pt-br/programacao/event/2957-cl
 ube-dos-pauzudos
DTSTART:20240316T020000Z
DTEND:20240316T080000Z
LOCATION:Rua Dr Veiga Filho 802 Higienópolis São Paulo (Rua Dr Veiga Filho 
 802 Higienópolis São Paulo)
SUMMARY: Clube dos Pauzudos
URL:https://wildthermasclub.com.br/pt-br/programacao/event/2957-clube-dos-p
 auzudos
END:VEVENT
END:VCALENDAR
