BEGIN:VCALENDAR
VERSION:2.0
PRODID:-//https://wildthermasclub.com.br///NONSGML kigkonsult.se iCalcreator 2.10.15//
METHOD:PUBLISH
BEGIN:VEVENT
UID:20260424T033105UTC-56458pubwv@https://wildthermasclub.com.br/
DTSTAMP:20260424T033105Z
DESCRIPTION: https://wildthermasclub.com.br/pt-br/programacao/event/1625-do
 mingo-tem-festa-grupal-no-clube
DTSTART:20200105T160000Z
DTEND:20200106T010000Z
LOCATION:Rua Dr Veiga Filho 802 Higienópolis São Paulo (Rua Dr Veiga Filho 
 802 Higienópolis São Paulo)
SUMMARY:Domingo tem festa grupal no Clube
URL:https://wildthermasclub.com.br/pt-br/programacao/event/1625-domingo-tem
 -festa-grupal-no-clube
END:VEVENT
END:VCALENDAR
