BEGIN:VCALENDAR
VERSION:2.0
PRODID:-//https://wildthermasclub.com.br///NONSGML kigkonsult.se iCalcreator 2.10.15//
METHOD:PUBLISH
BEGIN:VEVENT
UID:20260424T033122UTC-3885hhmUtR@https://wildthermasclub.com.br/
DTSTAMP:20260424T033122Z
DESCRIPTION: https://wildthermasclub.com.br/pt-br/programacao/event/1729-ma
 ssagens-depilacao-masc-diversao
DTSTART:20200914T170000Z
DTEND:20200915T010000Z
LOCATION:Rua Dr Veiga Filho 802 Higienópolis São Paulo (Rua Dr Veiga Filho 
 802 Higienópolis São Paulo)
SUMMARY:Massagens / Depilação Masc / Diversão
URL:https://wildthermasclub.com.br/pt-br/programacao/event/1729-massagens-d
 epilacao-masc-diversao
END:VEVENT
END:VCALENDAR
