BEGIN:VCALENDAR
VERSION:2.0
PRODID:-//https://wildthermasclub.com.br///NONSGML kigkonsult.se iCalcreator 2.10.15//
METHOD:PUBLISH
BEGIN:VEVENT
UID:20260424T033105UTC-5645SUPZ58@https://wildthermasclub.com.br/
DTSTAMP:20260424T033105Z
DESCRIPTION: https://wildthermasclub.com.br/pt-br/programacao/event/1860-sa
 unas-massagens-na-wild-thermas
DTSTART:20210201T170000Z
DTEND:20210202T010000Z
LOCATION:Rua Dr Veiga Filho 802 Higienópolis São Paulo (Rua Dr Veiga Filho 
 802 Higienópolis São Paulo)
SUMMARY:Saunas\, Massagens na Wild Thermas
URL:https://wildthermasclub.com.br/pt-br/programacao/event/1860-saunas-mass
 agens-na-wild-thermas
END:VEVENT
END:VCALENDAR
