BEGIN:VCALENDAR
VERSION:2.0
PRODID:-//https://wildthermasclub.com.br///NONSGML kigkonsult.se iCalcreator 2.10.15//
METHOD:PUBLISH
BEGIN:VEVENT
UID:20260424T032550UTC-1548ukueS9@https://wildthermasclub.com.br/
DTSTAMP:20260424T032550Z
DESCRIPTION: https://wildthermasclub.com.br/pt-br/programacao/event/1882-ca
 sados-indiscretos
DTSTART:20210225T170000Z
DTEND:20210226T010000Z
LOCATION:Rua Dr Veiga Filho 802 Higienópolis São Paulo (Rua Dr Veiga Filho 
 802 Higienópolis São Paulo)
SUMMARY:Casados InDiscretos
URL:https://wildthermasclub.com.br/pt-br/programacao/event/1882-casados-ind
 iscretos
END:VEVENT
END:VCALENDAR
