BEGIN:VCALENDAR
VERSION:2.0
PRODID:-//https://wildthermasclub.com.br///NONSGML kigkonsult.se iCalcreator 2.10.15//
METHOD:PUBLISH
BEGIN:VEVENT
UID:20260424T032720UTC-40375KAVNE@https://wildthermasclub.com.br/
DTSTAMP:20260424T032720Z
DESCRIPTION: https://wildthermasclub.com.br/pt-br/programacao/event/1888-fe
 chados-ate-20-marco
DTSTART:20210308T170000Z
DTEND:20210309T010000Z
LOCATION:Rua Dr Veiga Filho 802 Higienópolis São Paulo (Rua Dr Veiga Filho 
 802 Higienópolis São Paulo)
SUMMARY:FECHADOS  até 20 março
URL:https://wildthermasclub.com.br/pt-br/programacao/event/1888-fechados-at
 e-20-marco
END:VEVENT
END:VCALENDAR
