BEGIN:VCALENDAR
VERSION:2.0
PRODID:-//https://wildthermasclub.com.br///NONSGML kigkonsult.se iCalcreator 2.10.15//
METHOD:PUBLISH
BEGIN:VEVENT
UID:20260424T033139UTC-4468EpKoMJ@https://wildthermasclub.com.br/
DTSTAMP:20260424T033139Z
DESCRIPTION: https://wildthermasclub.com.br/pt-br/programacao/event/1901-en
 contro-de-machos-no-clube-dos-pauz
DTSTART:20210321T170000Z
DTEND:20210322T010000Z
LOCATION:Rua Dr Veiga Filho 802 Higienópolis São Paulo (Rua Dr Veiga Filho 
 802 Higienópolis São Paulo)
SUMMARY:Encontro de Machos no Clube dos Pauz
URL:https://wildthermasclub.com.br/pt-br/programacao/event/1901-encontro-de
 -machos-no-clube-dos-pauz
END:VEVENT
END:VCALENDAR
