BEGIN:VCALENDAR
VERSION:2.0
PRODID:-//https://wildthermasclub.com.br///NONSGML kigkonsult.se iCalcreator 2.10.15//
METHOD:PUBLISH
BEGIN:VEVENT
UID:20260424T033122UTC-2988htUU6C@https://wildthermasclub.com.br/
DTSTAMP:20260424T033122Z
DESCRIPTION: https://wildthermasclub.com.br/pt-br/programacao/event/1919-en
 contro-dos-casados-indiscretos
DTSTART:20210520T170000Z
DTEND:20210521T010000Z
LOCATION:Rua Dr Veiga Filho 802 Higienópolis São Paulo (Rua Dr Veiga Filho 
 802 Higienópolis São Paulo)
SUMMARY:Encontro dos Casados InDiscretos
URL:https://wildthermasclub.com.br/pt-br/programacao/event/1919-encontro-do
 s-casados-indiscretos
END:VEVENT
END:VCALENDAR
