BEGIN:VCALENDAR
VERSION:2.0
PRODID:-//https://wildthermasclub.com.br///NONSGML kigkonsult.se iCalcreator 2.10.15//
METHOD:PUBLISH
BEGIN:VEVENT
UID:20260424T032934UTC-6568KngoHU@https://wildthermasclub.com.br/
DTSTAMP:20260424T032934Z
DESCRIPTION: https://wildthermasclub.com.br/pt-br/programacao/event/2397-es
 tudantina-toda-segunda
DTSTART:20220905T170000Z
DTEND:20220906T020000Z
LOCATION:Rua Dr Veiga Filho 802 Higienópolis São Paulo (Rua Dr Veiga Filho 
 802 Higienópolis São Paulo)
SUMMARY:ESTUDANTINA - toda segunda
URL:https://wildthermasclub.com.br/pt-br/programacao/event/2397-estudantina
 -toda-segunda
END:VEVENT
END:VCALENDAR
